BEGIN:VCALENDAR
VERSION:2.0
PRODID:-//Tukios.com/
BEGIN:VEVENT
UID:596808c3-45e5-49ba-b619-b910196f72db@www.adamsredmond.com
DTSTAMP:20260421T162334Z
DTSTART:20260423T150000Z
DTEND:20260423T160000Z
SUMMARY:Visitation
DESCRIPTION:
URL:https://www.adamsredmond.com/obituaries/glenda-story
LOCATION:Adams - Redmond - Parchment Funeral Home 2300 East G Avenue  
	Parchment MI 49004
GEO:42.3324244;-85.5519821
END:VEVENT
END:VCALENDAR