BEGIN:VCALENDAR
VERSION:2.0
PRODID:-//Tukios.com/
BEGIN:VEVENT
UID:c5190762-96ef-442c-905e-5da48cbf5e79@www.adamsredmond.com
DTSTAMP:20260421T161819Z
DTSTART:20260423T160000Z
DTEND:20260423T170000Z
SUMMARY:Funeral Service
DESCRIPTION:
URL:https://www.adamsredmond.com/obituaries/glenda-story
LOCATION:Adams - Redmond - Parchment Funeral Home 2300 East G Avenue  
	Parchment MI 49004
GEO:42.3324244;-85.5519821
END:VEVENT
END:VCALENDAR