BEGIN:VCALENDAR
VERSION:2.0
PRODID:-//Tukios.com/
BEGIN:VEVENT
UID:5f9173e4-794c-48e5-ba80-a65e8c6c615a@www.adamsredmond.com
DTSTAMP:20260420T192352Z
DTSTART:20260430T200000Z
DTEND:20260430T220000Z
SUMMARY:Visitation
DESCRIPTION:
URL:https://www.adamsredmond.com/obituaries/jerry-steger
LOCATION:Adams-Redmond Funeral Home 4100 South Westnedge Avenue  
	Kalamazoo MI 49008
GEO:42.2502627;-85.5901928
END:VEVENT
END:VCALENDAR