BEGIN:VCALENDAR
VERSION:2.0
PRODID:-//Tukios.com/
BEGIN:VEVENT
UID:e98eab57-a611-4cc4-a8e4-198ba9439723@www.adamsredmond.com
DTSTAMP:20260420T192627Z
DTSTART:20260501T140000Z
DTEND:20260501T150000Z
SUMMARY:Mass of Christian Burial
DESCRIPTION:
URL:https://www.adamsredmond.com/obituaries/jerry-steger
LOCATION: 542 W Michigan Ave  Kalamazoo MI 49007
GEO:42.2917402;-85.5918654
END:VEVENT
END:VCALENDAR