BEGIN:VCALENDAR
VERSION:2.0
PRODID:-//Tukios.com/
BEGIN:VEVENT
UID:5f469c22-b2bc-408f-a193-4c44d57f8ca6@www.adamsredmond.com
DTSTAMP:20260420T192528Z
DTSTART:20260430T214500Z
DTEND:20260430T224500Z
SUMMARY:Rosary
DESCRIPTION:
URL:https://www.adamsredmond.com/obituaries/jerry-steger
LOCATION: 4100 South Westnedge Ave  Kalamazoo MI 49008
GEO:42.2502627;-85.5901928
END:VEVENT
END:VCALENDAR