BEGIN:VCALENDAR
VERSION:2.0
PRODID:-//Tukios.com/
BEGIN:VEVENT
UID:5a7e8968-ee58-4ebb-86d6-3be3dbb553ee@www.adamsredmond.com
DTSTAMP:20260420T192606Z
DTSTART:20260501
SUMMARY:Rite of Committal
DESCRIPTION:
URL:https://www.adamsredmond.com/obituaries/jerry-steger
LOCATION: 2003 Mt Olivet Rd  Kalamazoo MI 49004
GEO:42.310572;-85.5669386
END:VEVENT
END:VCALENDAR